BEGIN:VCALENDAR
METHOD:PUBLISH
PRODID:-//github.com/rianjs/ical.net//NONSGML ical.net 4.0//EN
VERSION:2.0
BEGIN:VTIMEZONE
TZID:Australia/Sydney
X-LIC-LOCATION:Australia/Sydney
BEGIN:STANDARD
DTSTART:20250406T030000
RRULE:FREQ=YEARLY;BYDAY=1SU;BYMONTH=4
TZNAME:AEST
TZOFFSETFROM:+1100
TZOFFSETTO:+1000
END:STANDARD
BEGIN:DAYLIGHT
DTSTART:20241006T040000
RRULE:FREQ=YEARLY;BYDAY=1SU;BYMONTH=10
TZNAME:AEDT
TZOFFSETFROM:+1000
TZOFFSETTO:+0900
END:DAYLIGHT
END:VTIMEZONE
BEGIN:VEVENT
DESCRIPTION;LANGUAGE=en-AU:Summary:ta3_key checkdate\nhttps://develop.dev.
 opencities.com/Council/Minutes-Agendas/ta3_key-27-April-2026
DTEND:20260427T235959
DTSTAMP:20260422T010919Z
DTSTART:20260427T000000
LOCATION:
SEQUENCE:0
SUMMARY;LANGUAGE=en-AU:27 Apr 2026 - Ordinary Meeting
UID:OpenCities.63ebd9ea-c6d1-4590-81c1-a7aa54ef1262.27002026000400
BEGIN:VALARM
ACTION:DISPLAY
DESCRIPTION:Reminder
DURATION:P0D
TRIGGER:P0D
END:VALARM
END:VEVENT
END:VCALENDAR
